BEGIN:VCALENDAR
VERSION:2.0
PRODID:-//Rockford Housing Authority - ECPv6.15.20//NONSGML v1.0//EN
CALSCALE:GREGORIAN
METHOD:PUBLISH
X-WR-CALNAME:Rockford Housing Authority
X-ORIGINAL-URL:https://rockfordha.org
X-WR-CALDESC:Events for Rockford Housing Authority
REFRESH-INTERVAL;VALUE=DURATION:PT1H
X-Robots-Tag:noindex
X-PUBLISHED-TTL:PT1H
BEGIN:VTIMEZONE
TZID:America/Chicago
BEGIN:DAYLIGHT
TZOFFSETFROM:-0600
TZOFFSETTO:-0500
TZNAME:CDT
DTSTART:20250309T080000
END:DAYLIGHT
BEGIN:STANDARD
TZOFFSETFROM:-0500
TZOFFSETTO:-0600
TZNAME:CST
DTSTART:20251102T070000
END:STANDARD
BEGIN:DAYLIGHT
TZOFFSETFROM:-0600
TZOFFSETTO:-0500
TZNAME:CDT
DTSTART:20260308T080000
END:DAYLIGHT
BEGIN:STANDARD
TZOFFSETFROM:-0500
TZOFFSETTO:-0600
TZNAME:CST
DTSTART:20261101T070000
END:STANDARD
BEGIN:DAYLIGHT
TZOFFSETFROM:-0600
TZOFFSETTO:-0500
TZNAME:CDT
DTSTART:20270314T080000
END:DAYLIGHT
BEGIN:STANDARD
TZOFFSETFROM:-0500
TZOFFSETTO:-0600
TZNAME:CST
DTSTART:20271107T070000
END:STANDARD
BEGIN:DAYLIGHT
TZOFFSETFROM:-0600
TZOFFSETTO:-0500
TZNAME:CDT
DTSTART:20280312T080000
END:DAYLIGHT
BEGIN:STANDARD
TZOFFSETFROM:-0500
TZOFFSETTO:-0600
TZNAME:CST
DTSTART:20281105T070000
END:STANDARD
END:VTIMEZONE
BEGIN:VEVENT
DTSTART;TZID=America/Chicago:20260421T120000
DTEND;TZID=America/Chicago:20260421T140000
DTSTAMP:20260419T201926
CREATED:20250612T113832Z
LAST-MODIFIED:20251203T022333Z
UID:10000521-1776772800-1776780000@rockfordha.org
SUMMARY:Oak Street Health
DESCRIPTION:
URL:https://rockfordha.org/event/oak-street-health/2026-04-21/
CATEGORIES:Resident Calendar
ATTACH;FMTTYPE=image/webp:https://rockfordha.org/wp-content/uploads/2025/06/Screenshot-2025-12-02-at-9.22.24-PM.webp
ORGANIZER;CN="Yolanda Anderson":MAILTO:yanderson@rockfordha.org
END:VEVENT
BEGIN:VEVENT
DTSTART;TZID=America/Chicago:20260422T120000
DTEND;TZID=America/Chicago:20260422T120000
DTSTAMP:20260419T201926
CREATED:20250612T112529Z
LAST-MODIFIED:20250612T112529Z
UID:10000161-1776859200-1776859200@rockfordha.org
SUMMARY:Oak Street/NM
DESCRIPTION:
URL:https://rockfordha.org/event/oak-street-nm/2026-04-22/
CATEGORIES:Resident Calendar
ORGANIZER;CN="Yolanda Anderson":MAILTO:yanderson@rockfordha.org
END:VEVENT
BEGIN:VEVENT
DTSTART;TZID=America/Chicago:20260423T120000
DTEND;TZID=America/Chicago:20260423T140000
DTSTAMP:20260419T201926
CREATED:20250612T112859Z
LAST-MODIFIED:20250612T112859Z
UID:10000221-1776945600-1776952800@rockfordha.org
SUMMARY:Midland Bank
DESCRIPTION:
URL:https://rockfordha.org/event/midland-bank/2026-04-23/
CATEGORIES:Resident Calendar
ORGANIZER;CN="Yolanda Anderson":MAILTO:yanderson@rockfordha.org
END:VEVENT
BEGIN:VEVENT
DTSTART;TZID=America/Chicago:20260424T120000
DTEND;TZID=America/Chicago:20260424T140000
DTSTAMP:20260419T201926
CREATED:20250612T112244Z
LAST-MODIFIED:20250612T112244Z
UID:10000101-1777032000-1777039200@rockfordha.org
SUMMARY:Northern Illinois Food Bank
DESCRIPTION:
URL:https://rockfordha.org/event/northern-illinois-food-bank/2026-04-24/
CATEGORIES:Resident Calendar
ORGANIZER;CN="Yolanda Anderson":MAILTO:yanderson@rockfordha.org
END:VEVENT
BEGIN:VEVENT
DTSTART;TZID=America/Chicago:20260427T120000
DTEND;TZID=America/Chicago:20260427T140000
DTSTAMP:20260419T201926
CREATED:20250612T113319Z
LAST-MODIFIED:20250612T113319Z
UID:10000341-1777291200-1777298400@rockfordha.org
SUMMARY:NAMI/NM
DESCRIPTION:
URL:https://rockfordha.org/event/nami-nm/2026-04-27/
CATEGORIES:Resident Calendar
ORGANIZER;CN="Yolanda Anderson":MAILTO:yanderson@rockfordha.org
END:VEVENT
BEGIN:VEVENT
DTSTART;TZID=America/Chicago:20260428T101500
DTEND;TZID=America/Chicago:20260428T110000
DTSTAMP:20260419T201926
CREATED:20250618T113035Z
LAST-MODIFIED:20250618T161958Z
UID:10000705-1777371300-1777374000@rockfordha.org
SUMMARY:Rockford Public Library
DESCRIPTION:Middle parking lot between NM and OP
URL:https://rockfordha.org/event/rockford-public-library/2026-04-28/
CATEGORIES:Resident Calendar
ORGANIZER;CN="Yolanda Anderson":MAILTO:yanderson@rockfordha.org
END:VEVENT
BEGIN:VEVENT
DTSTART;TZID=America/Chicago:20260511T120000
DTEND;TZID=America/Chicago:20260511T140000
DTSTAMP:20260419T201927
CREATED:20250612T114849Z
LAST-MODIFIED:20251203T021517Z
UID:10000644-1778500800-1778508000@rockfordha.org
SUMMARY:NAMI
DESCRIPTION:
URL:https://rockfordha.org/event/nami/2026-05-11/
CATEGORIES:Resident Calendar
ATTACH;FMTTYPE=image/webp:https://rockfordha.org/wp-content/uploads/2025/06/RHA_Events_Cover-1.webp
ORGANIZER;CN="Yolanda Anderson":MAILTO:yanderson@rockfordha.org
END:VEVENT
BEGIN:VEVENT
DTSTART;TZID=America/Chicago:20260513T120000
DTEND;TZID=America/Chicago:20260513T140000
DTSTAMP:20260419T201927
CREATED:20250612T114221Z
LAST-MODIFIED:20251203T021119Z
UID:10000583-1778673600-1778680800@rockfordha.org
SUMMARY:WSM Insurance/NM
DESCRIPTION:
URL:https://rockfordha.org/event/wsm-insurance-nm/2026-05-13/
LOCATION:North Main Manor\, 505 North Main Street\, Rockford\, IL\, 61103\, United States
CATEGORIES:Resident Calendar
ATTACH;FMTTYPE=image/webp:https://rockfordha.org/wp-content/uploads/2025/06/Yolanda_bw.webp
ORGANIZER;CN="Yolanda Anderson":MAILTO:yanderson@rockfordha.org
END:VEVENT
BEGIN:VEVENT
DTSTART;TZID=America/Chicago:20260514T120000
DTEND;TZID=America/Chicago:20260514T140000
DTSTAMP:20260419T201927
CREATED:20260318T160205Z
LAST-MODIFIED:20260318T160205Z
UID:10000936-1778760000-1778767200@rockfordha.org
SUMMARY:Spring  Landlord Lunch and Learn
DESCRIPTION:Landlord Lunch and Learn hosted by Justin Francis\, Landlord Liaison.
URL:https://rockfordha.org/event/spring-landlord-lunch-and-learn-2/
LOCATION:223 S Winnebago St\, 223 South Winnebago Street\, Rockford\, IL\, 61102\, United States
ATTACH;FMTTYPE=image/webp:https://rockfordha.org/wp-content/uploads/2025/01/ff501ad03bfe2859019efb810050c925.webp
END:VEVENT
BEGIN:VEVENT
DTSTART;TZID=America/Chicago:20260515T090000
DTEND;TZID=America/Chicago:20260515T114500
DTSTAMP:20260419T201927
CREATED:20250618T113455Z
LAST-MODIFIED:20250618T162457Z
UID:10000766-1778835600-1778845500@rockfordha.org
SUMMARY:OSF On Call at North Main Parking Lot
DESCRIPTION:
URL:https://rockfordha.org/event/osf-on-call-at-north-main-parking-lot/2026-05-15/
CATEGORIES:Resident Calendar
ORGANIZER;CN="Yolanda Anderson":MAILTO:yanderson@rockfordha.org
END:VEVENT
BEGIN:VEVENT
DTSTART;TZID=America/Chicago:20260520T143000
DTEND;TZID=America/Chicago:20260520T153000
DTSTAMP:20260419T201927
CREATED:20250618T113657Z
LAST-MODIFIED:20251203T022619Z
UID:10000826-1779287400-1779291000@rockfordha.org
SUMMARY:WSM Insurance at Olsen Plaza Community Room
DESCRIPTION:A brief discussion regarding the services provided\, Life Insurance\, Renters Insurance\, car insurance and Medicare assistance\nHosted Bingo\nCommunity Engagement
URL:https://rockfordha.org/event/wsm-insurance-at-olsen-plaza-community-room/2026-05-20/
CATEGORIES:Resident Calendar
ATTACH;FMTTYPE=image/webp:https://rockfordha.org/wp-content/uploads/2025/06/DSC00653-scaled.webp
ORGANIZER;CN="Yolanda Anderson":MAILTO:yanderson@rockfordha.org
END:VEVENT
BEGIN:VEVENT
DTSTART;TZID=America/Chicago:20260608T080000
DTEND;TZID=America/Chicago:20260611T150000
DTSTAMP:20260419T201927
CREATED:20260205T153035Z
LAST-MODIFIED:20260205T170208Z
UID:10000925-1780905600-1781190000@rockfordha.org
SUMMARY:Rising Suns Farm Camp
DESCRIPTION:A joyful introduction to farm life. Kids care for animals\, explore gardens and creeks\, cook with the farm chef\, and return home each day feeling confident and inspired. Cost: $350–$450 with extended care.
URL:https://rockfordha.org/event/rising-suns-farm-camp/
LOCATION:1936 Rockton Rd\, Caledonia\, IL 61011\, ​1936 Rockton Rd.\, Caledonia\, 61011\, United States
CATEGORIES:Education & Learning Opportunities,Outdoor Activities & Recreation,Workshops & Training,Youth Programs & Activities
ATTACH;FMTTYPE=image/webp:https://rockfordha.org/wp-content/uploads/2026/02/Summer-camp-2026-multiple-page-guide-_1_.webp
ORGANIZER;CN="Farmers Rising":MAILTO:connect@farmersrising.org
END:VEVENT
BEGIN:VEVENT
DTSTART;TZID=America/Chicago:20260615T080000
DTEND;TZID=America/Chicago:20260618T150000
DTSTAMP:20260419T201927
CREATED:20260205T170333Z
LAST-MODIFIED:20260205T170421Z
UID:10000927-1781510400-1781794800@rockfordha.org
SUMMARY:Rising Suns Farm Camp
DESCRIPTION:A joyful introduction to farm life. Kids care for animals\, explore gardens and creeks\, cook with the farm chef\, and return home each day feeling confident and inspired. Cost: $350–$450 with extended care.
URL:https://rockfordha.org/event/rising-suns-farm-camp-2/
LOCATION:1936 Rockton Rd\, Caledonia\, IL 61011\, ​1936 Rockton Rd.\, Caledonia\, 61011\, United States
CATEGORIES:Education & Learning Opportunities,Outdoor Activities & Recreation,Workshops & Training,Youth Programs & Activities
ATTACH;FMTTYPE=image/webp:https://rockfordha.org/wp-content/uploads/2026/02/Summer-camp-2026-multiple-page-guide-_1_.webp
ORGANIZER;CN="Farmers Rising":MAILTO:connect@farmersrising.org
END:VEVENT
BEGIN:VEVENT
DTSTART;TZID=America/Chicago:20260622T080000
DTEND;TZID=America/Chicago:20260625T150000
DTSTAMP:20260419T201927
CREATED:20260205T170446Z
LAST-MODIFIED:20260205T170446Z
UID:10000928-1782115200-1782399600@rockfordha.org
SUMMARY:Rising Suns Farm Camp
DESCRIPTION:A joyful introduction to farm life. Kids care for animals\, explore gardens and creeks\, cook with the farm chef\, and return home each day feeling confident and inspired. Cost: $350–$450 with extended care.
URL:https://rockfordha.org/event/rising-suns-farm-camp-3/
LOCATION:1936 Rockton Rd\, Caledonia\, IL 61011\, ​1936 Rockton Rd.\, Caledonia\, 61011\, United States
CATEGORIES:Education & Learning Opportunities,Outdoor Activities & Recreation,Workshops & Training,Youth Programs & Activities
ATTACH;FMTTYPE=image/webp:https://rockfordha.org/wp-content/uploads/2026/02/Summer-camp-2026-multiple-page-guide-_1_.webp
ORGANIZER;CN="Farmers Rising":MAILTO:connect@farmersrising.org
END:VEVENT
BEGIN:VEVENT
DTSTART;TZID=America/Chicago:20260629T080000
DTEND;TZID=America/Chicago:20260701T150000
DTSTAMP:20260419T201927
CREATED:20260205T171008Z
LAST-MODIFIED:20260205T171008Z
UID:10000929-1782720000-1782918000@rockfordha.org
SUMMARY:Twilight Farm Camp
DESCRIPTION:A supportive first step into sleepaway camp\, rooted in real farm life and thoughtfully designed to build confidence.Meals: Chef-prepared\, farm-to-table meals and snacks included.
URL:https://rockfordha.org/event/twilight-farm-camp/
LOCATION:1936 Rockton Rd\, Caledonia\, IL 61011\, ​1936 Rockton Rd.\, Caledonia\, 61011\, United States
CATEGORIES:Education & Learning Opportunities,Outdoor Activities & Recreation,Workshops & Training,Youth Programs & Activities
ATTACH;FMTTYPE=image/webp:https://rockfordha.org/wp-content/uploads/2026/02/Summer-camp-2026-multiple-page-guide-_2_.webp
ORGANIZER;CN="Farmers Rising":MAILTO:connect@farmersrising.org
END:VEVENT
BEGIN:VEVENT
DTSTART;TZID=America/Chicago:20260706T080000
DTEND;TZID=America/Chicago:20260708T150000
DTSTAMP:20260419T201927
CREATED:20260205T171106Z
LAST-MODIFIED:20260205T171106Z
UID:10000930-1783324800-1783522800@rockfordha.org
SUMMARY:Twilight Farm Camp
DESCRIPTION:A supportive first step into sleepaway camp\, rooted in real farm life and thoughtfully designed to build confidence.Meals: Chef-prepared\, farm-to-table meals and snacks included.
URL:https://rockfordha.org/event/twilight-farm-camp-2/
LOCATION:1936 Rockton Rd\, Caledonia\, IL 61011\, ​1936 Rockton Rd.\, Caledonia\, 61011\, United States
CATEGORIES:Education & Learning Opportunities,Outdoor Activities & Recreation,Workshops & Training,Youth Programs & Activities
ATTACH;FMTTYPE=image/webp:https://rockfordha.org/wp-content/uploads/2026/02/Summer-camp-2026-multiple-page-guide-_2_.webp
ORGANIZER;CN="Farmers Rising":MAILTO:connect@farmersrising.org
END:VEVENT
BEGIN:VEVENT
DTSTART;VALUE=DATE:20260719
DTEND;VALUE=DATE:20260724
DTSTAMP:20260419T201927
CREATED:20260205T171408Z
LAST-MODIFIED:20260205T171428Z
UID:10000931-1784419200-1784851199@rockfordha.org
SUMMARY:Moonlight Farm Camp
DESCRIPTION:A full immersion in the rhythm of farm and forest- campers live\, work\, and connect from sunup through moonlight.  \nMeals: Chef-prepared\, farm-to-table meals and snacks included.
URL:https://rockfordha.org/event/moonlight-farm-camp/
LOCATION:1936 Rockton Rd\, Caledonia\, IL 61011\, ​1936 Rockton Rd.\, Caledonia\, 61011\, United States
CATEGORIES:Education & Learning Opportunities,Outdoor Activities & Recreation,Workshops & Training,Youth Programs & Activities
ATTACH;FMTTYPE=image/webp:https://rockfordha.org/wp-content/uploads/2026/02/Summer-camp-2026-multiple-page-guide-_3_.webp
ORGANIZER;CN="Farmers Rising":MAILTO:connect@farmersrising.org
END:VEVENT
BEGIN:VEVENT
DTSTART;VALUE=DATE:20260726
DTEND;VALUE=DATE:20260731
DTSTAMP:20260419T201927
CREATED:20260205T171625Z
LAST-MODIFIED:20260205T171625Z
UID:10000932-1785024000-1785455999@rockfordha.org
SUMMARY:Moonlight Farm Camp
DESCRIPTION:A full immersion in the rhythm of farm and forest- campers live\, work\, and connect from sunup through moonlight.  \nMeals: Chef-prepared\, farm-to-table meals and snacks included.
URL:https://rockfordha.org/event/moonlight-farm-camp-2/
LOCATION:1936 Rockton Rd\, Caledonia\, IL 61011\, ​1936 Rockton Rd.\, Caledonia\, 61011\, United States
CATEGORIES:Education & Learning Opportunities,Outdoor Activities & Recreation,Workshops & Training,Youth Programs & Activities
ATTACH;FMTTYPE=image/webp:https://rockfordha.org/wp-content/uploads/2026/02/Summer-camp-2026-multiple-page-guide-_3_.webp
ORGANIZER;CN="Farmers Rising":MAILTO:connect@farmersrising.org
END:VEVENT
BEGIN:VEVENT
DTSTART;VALUE=DATE:20270101
DTEND;VALUE=DATE:20270102
DTSTAMP:20260419T201927
CREATED:20251119T165813Z
LAST-MODIFIED:20251120T143256Z
UID:10000893-1798761600-1798847999@rockfordha.org
SUMMARY:New Year's Day (RHA Offices Closed)
DESCRIPTION:RHA shall observe the holiday schedule as approved by the Board of Commissioners and in keeping with union agreements and pertinent local public practice.
URL:https://rockfordha.org/event/new-years-day-rha-offices-closed/2027-01-01/
LOCATION:Rockford Housing Authority\, 223 South Winnebago Street\, Rockford\, IL\, 61102\, United States
CATEGORIES:Holiday Celebrations
ATTACH;FMTTYPE=image/webp:https://rockfordha.org/wp-content/uploads/2025/11/RHA-New-Year-2026.webp
END:VEVENT
END:VCALENDAR